BEGIN:VCALENDAR
VERSION:2.0
PRODID:-//Ventura County Continuum of Care - ECPv6.15.20//NONSGML v1.0//EN
CALSCALE:GREGORIAN
METHOD:PUBLISH
X-ORIGINAL-URL:https://coc.venturacounty.gov
X-WR-CALDESC:Events for Ventura County Continuum of Care
REFRESH-INTERVAL;VALUE=DURATION:PT1H
X-Robots-Tag:noindex
X-PUBLISHED-TTL:PT1H
BEGIN:VTIMEZONE
TZID:America/Los_Angeles
BEGIN:DAYLIGHT
TZOFFSETFROM:-0800
TZOFFSETTO:-0700
TZNAME:PDT
DTSTART:20220313T100000
END:DAYLIGHT
BEGIN:STANDARD
TZOFFSETFROM:-0700
TZOFFSETTO:-0800
TZNAME:PST
DTSTART:20221106T090000
END:STANDARD
BEGIN:DAYLIGHT
TZOFFSETFROM:-0800
TZOFFSETTO:-0700
TZNAME:PDT
DTSTART:20230312T100000
END:DAYLIGHT
BEGIN:STANDARD
TZOFFSETFROM:-0700
TZOFFSETTO:-0800
TZNAME:PST
DTSTART:20231105T090000
END:STANDARD
BEGIN:DAYLIGHT
TZOFFSETFROM:-0800
TZOFFSETTO:-0700
TZNAME:PDT
DTSTART:20240310T100000
END:DAYLIGHT
BEGIN:STANDARD
TZOFFSETFROM:-0700
TZOFFSETTO:-0800
TZNAME:PST
DTSTART:20241103T090000
END:STANDARD
END:VTIMEZONE
BEGIN:VEVENT
DTSTART;TZID=America/Los_Angeles:20231207T153000
DTEND;TZID=America/Los_Angeles:20231207T163000
DTSTAMP:20260421T052852
CREATED:20231116T001749Z
LAST-MODIFIED:20231116T001749Z
UID:1245-1701963000-1701966600@coc.venturacounty.gov
SUMMARY:Training: VAWA regulations and 2023 HUD Guidance for CoC Programs
DESCRIPTION:
URL:https://coc.venturacounty.gov/event/training-vawa-regulations-and-2023-hud-guidance-for-coc-programs/
LOCATION:Zoom Meeting
END:VEVENT
END:VCALENDAR