BEGIN:VCALENDAR
VERSION:2.0
PRODID:-//Ventura County Continuum of Care - ECPv6.15.20//NONSGML v1.0//EN
CALSCALE:GREGORIAN
METHOD:PUBLISH
X-ORIGINAL-URL:https://coc.venturacounty.gov
X-WR-CALDESC:Events for Ventura County Continuum of Care
REFRESH-INTERVAL;VALUE=DURATION:PT1H
X-Robots-Tag:noindex
X-PUBLISHED-TTL:PT1H
BEGIN:VTIMEZONE
TZID:America/Los_Angeles
BEGIN:DAYLIGHT
TZOFFSETFROM:-0800
TZOFFSETTO:-0700
TZNAME:PDT
DTSTART:20230312T100000
END:DAYLIGHT
BEGIN:STANDARD
TZOFFSETFROM:-0700
TZOFFSETTO:-0800
TZNAME:PST
DTSTART:20231105T090000
END:STANDARD
BEGIN:DAYLIGHT
TZOFFSETFROM:-0800
TZOFFSETTO:-0700
TZNAME:PDT
DTSTART:20240310T100000
END:DAYLIGHT
BEGIN:STANDARD
TZOFFSETFROM:-0700
TZOFFSETTO:-0800
TZNAME:PST
DTSTART:20241103T090000
END:STANDARD
BEGIN:DAYLIGHT
TZOFFSETFROM:-0800
TZOFFSETTO:-0700
TZNAME:PDT
DTSTART:20250309T100000
END:DAYLIGHT
BEGIN:STANDARD
TZOFFSETFROM:-0700
TZOFFSETTO:-0800
TZNAME:PST
DTSTART:20251102T090000
END:STANDARD
END:VTIMEZONE
BEGIN:VEVENT
DTSTART;TZID=America/Los_Angeles:20240118T103000
DTEND;TZID=America/Los_Angeles:20240118T120000
DTSTAMP:20260425T131017
CREATED:20231128T222826Z
LAST-MODIFIED:20240418T175606Z
UID:1274-1705573800-1705579200@coc.venturacounty.gov
SUMMARY:VC CoC Alliance Meeting
DESCRIPTION:
URL:https://coc.venturacounty.gov/event/vc-coc-alliance-meeting/2024-01-18/
LOCATION:CA
END:VEVENT
BEGIN:VEVENT
DTSTART;TZID=America/Los_Angeles:20240118T160000
DTEND;TZID=America/Los_Angeles:20240118T170000
DTSTAMP:20260425T131017
CREATED:20240112T190915Z
LAST-MODIFIED:20240112T191153Z
UID:1327-1705593600-1705597200@coc.venturacounty.gov
SUMMARY:PIT Count Volunteer Training (Remote)
DESCRIPTION:
URL:https://coc.venturacounty.gov/event/pit-count-volunteer-training-remote/
LOCATION:CA
END:VEVENT
END:VCALENDAR