BEGIN:VCALENDAR
VERSION:2.0
PRODID:-//Ventura County Continuum of Care - ECPv6.15.20//NONSGML v1.0//EN
CALSCALE:GREGORIAN
METHOD:PUBLISH
X-ORIGINAL-URL:https://coc.venturacounty.gov
X-WR-CALDESC:Events for Ventura County Continuum of Care
REFRESH-INTERVAL;VALUE=DURATION:PT1H
X-Robots-Tag:noindex
X-PUBLISHED-TTL:PT1H
BEGIN:VTIMEZONE
TZID:America/Los_Angeles
BEGIN:DAYLIGHT
TZOFFSETFROM:-0800
TZOFFSETTO:-0700
TZNAME:PDT
DTSTART:20230312T100000
END:DAYLIGHT
BEGIN:STANDARD
TZOFFSETFROM:-0700
TZOFFSETTO:-0800
TZNAME:PST
DTSTART:20231105T090000
END:STANDARD
BEGIN:DAYLIGHT
TZOFFSETFROM:-0800
TZOFFSETTO:-0700
TZNAME:PDT
DTSTART:20240310T100000
END:DAYLIGHT
BEGIN:STANDARD
TZOFFSETFROM:-0700
TZOFFSETTO:-0800
TZNAME:PST
DTSTART:20241103T090000
END:STANDARD
BEGIN:DAYLIGHT
TZOFFSETFROM:-0800
TZOFFSETTO:-0700
TZNAME:PDT
DTSTART:20250309T100000
END:DAYLIGHT
BEGIN:STANDARD
TZOFFSETFROM:-0700
TZOFFSETTO:-0800
TZNAME:PST
DTSTART:20251102T090000
END:STANDARD
END:VTIMEZONE
BEGIN:VEVENT
DTSTART;TZID=America/Los_Angeles:20240501T100000
DTEND;TZID=America/Los_Angeles:20240501T113000
DTSTAMP:20260425T075918
CREATED:20240429T201647Z
LAST-MODIFIED:20240429T201647Z
UID:1400-1714557600-1714563000@coc.venturacounty.gov
SUMMARY:CoC Data Committee Meeting
DESCRIPTION:
URL:https://coc.venturacounty.gov/event/coc-data-committee-meeting-11/2024-05-01/
LOCATION:CA
END:VEVENT
BEGIN:VEVENT
DTSTART;TZID=America/Los_Angeles:20240508T140000
DTEND;TZID=America/Los_Angeles:20240508T160000
DTSTAMP:20260425T075918
CREATED:20231129T001932Z
LAST-MODIFIED:20231129T001932Z
UID:1553-1715176800-1715184000@coc.venturacounty.gov
SUMMARY:CoC Board Meeting
DESCRIPTION:
URL:https://coc.venturacounty.gov/event/coc-board-meeting-6/2024-05-08/
LOCATION:Ventura County Office of Education – Administrative Services Center (Simi Room)\, 5189 Verdugo Way\, Camarillo\, CA\, 93012\, United States
END:VEVENT
BEGIN:VEVENT
DTSTART;TZID=America/Los_Angeles:20240523T103000
DTEND;TZID=America/Los_Angeles:20240523T120000
DTSTAMP:20260425T075918
CREATED:20240416T184020Z
LAST-MODIFIED:20240418T180027Z
UID:1393-1716460200-1716465600@coc.venturacounty.gov
SUMMARY:VC CoC Alliance Meeting
DESCRIPTION:
URL:https://coc.venturacounty.gov/event/vc-coc-alliance-meeting-2/
LOCATION:CA
END:VEVENT
BEGIN:VEVENT
DTSTART;TZID=America/Los_Angeles:20240529T133000
DTEND;TZID=America/Los_Angeles:20240529T143000
DTSTAMP:20260425T075918
CREATED:20240429T151910Z
LAST-MODIFIED:20240429T151910Z
UID:1398-1716989400-1716993000@coc.venturacounty.gov
SUMMARY:VC CoC PIO Committee Meeting
DESCRIPTION:
URL:https://coc.venturacounty.gov/event/vc-coc-pio-committee-meeting-4/
LOCATION:CA
END:VEVENT
END:VCALENDAR