BEGIN:VCALENDAR
VERSION:2.0
PRODID:-//Ventura County Continuum of Care - ECPv6.15.20//NONSGML v1.0//EN
CALSCALE:GREGORIAN
METHOD:PUBLISH
X-WR-CALNAME:Ventura County Continuum of Care
X-ORIGINAL-URL:https://coc.venturacounty.gov
X-WR-CALDESC:Events for Ventura County Continuum of Care
REFRESH-INTERVAL;VALUE=DURATION:PT1H
X-Robots-Tag:noindex
X-PUBLISHED-TTL:PT1H
BEGIN:VTIMEZONE
TZID:America/Los_Angeles
BEGIN:DAYLIGHT
TZOFFSETFROM:-0800
TZOFFSETTO:-0700
TZNAME:PDT
DTSTART:20230312T100000
END:DAYLIGHT
BEGIN:STANDARD
TZOFFSETFROM:-0700
TZOFFSETTO:-0800
TZNAME:PST
DTSTART:20231105T090000
END:STANDARD
BEGIN:DAYLIGHT
TZOFFSETFROM:-0800
TZOFFSETTO:-0700
TZNAME:PDT
DTSTART:20240310T100000
END:DAYLIGHT
BEGIN:STANDARD
TZOFFSETFROM:-0700
TZOFFSETTO:-0800
TZNAME:PST
DTSTART:20241103T090000
END:STANDARD
BEGIN:DAYLIGHT
TZOFFSETFROM:-0800
TZOFFSETTO:-0700
TZNAME:PDT
DTSTART:20250309T100000
END:DAYLIGHT
BEGIN:STANDARD
TZOFFSETFROM:-0700
TZOFFSETTO:-0800
TZNAME:PST
DTSTART:20251102T090000
END:STANDARD
END:VTIMEZONE
BEGIN:VEVENT
DTSTART;TZID=America/Los_Angeles:20240612T140000
DTEND;TZID=America/Los_Angeles:20240612T160000
DTSTAMP:20260423T075458
CREATED:20231129T001932Z
LAST-MODIFIED:20231129T001932Z
UID:1554-1718200800-1718208000@coc.venturacounty.gov
SUMMARY:CoC Board Meeting
DESCRIPTION:
URL:https://coc.venturacounty.gov/event/coc-board-meeting-6/2024-06-12/
LOCATION:Ventura County Office of Education – Administrative Services Center (Simi Room)\, 5189 Verdugo Way\, Camarillo\, CA\, 93012\, United States
END:VEVENT
BEGIN:VEVENT
DTSTART;TZID=America/Los_Angeles:20240613T130000
DTEND;TZID=America/Los_Angeles:20240613T143000
DTSTAMP:20260423T075458
CREATED:20240608T223904Z
LAST-MODIFIED:20240608T223904Z
UID:1460-1718283600-1718289000@coc.venturacounty.gov
SUMMARY:CoC Shared Housing Workgroup
DESCRIPTION:
URL:https://coc.venturacounty.gov/event/coc-shared-housing-workgroup/
LOCATION:Zoom Meeting (Shared Housing Workgroup)
END:VEVENT
END:VCALENDAR